BEGIN:VCALENDAR
VERSION:2.0
PRODID:-//Medina Entertainment Center - ECPv6.15.18//NONSGML v1.0//EN
CALSCALE:GREGORIAN
METHOD:PUBLISH
X-ORIGINAL-URL:https://medinaentertainment.com
X-WR-CALDESC:Events for Medina Entertainment Center
REFRESH-INTERVAL;VALUE=DURATION:PT1H
X-Robots-Tag:noindex
X-PUBLISHED-TTL:PT1H
BEGIN:VTIMEZONE
TZID:America/Chicago
BEGIN:DAYLIGHT
TZOFFSETFROM:-0600
TZOFFSETTO:-0500
TZNAME:CDT
DTSTART:20240310T080000
END:DAYLIGHT
BEGIN:STANDARD
TZOFFSETFROM:-0500
TZOFFSETTO:-0600
TZNAME:CST
DTSTART:20241103T070000
END:STANDARD
BEGIN:DAYLIGHT
TZOFFSETFROM:-0600
TZOFFSETTO:-0500
TZNAME:CDT
DTSTART:20250309T080000
END:DAYLIGHT
BEGIN:STANDARD
TZOFFSETFROM:-0500
TZOFFSETTO:-0600
TZNAME:CST
DTSTART:20251102T070000
END:STANDARD
BEGIN:DAYLIGHT
TZOFFSETFROM:-0600
TZOFFSETTO:-0500
TZNAME:CDT
DTSTART:20260308T080000
END:DAYLIGHT
BEGIN:STANDARD
TZOFFSETFROM:-0500
TZOFFSETTO:-0600
TZNAME:CST
DTSTART:20261101T070000
END:STANDARD
END:VTIMEZONE
BEGIN:VEVENT
DTSTART;TZID=America/Chicago:20250803T060000
DTEND;TZID=America/Chicago:20250803T120000
DTSTAMP:20260419T145809
CREATED:20250502T160606Z
LAST-MODIFIED:20250502T160741Z
UID:10001826-1754200800-1754222400@medinaentertainment.com
SUMMARY:HAMEL LIONS FLEA MARKET
DESCRIPTION:
URL:https://medinaentertainment.com/event/hamel-lions-flea-market-42/2025-08-03/
CATEGORIES:Social
ATTACH;FMTTYPE=image/png:https://medinaentertainment.com/wp-content/uploads/2023/04/Instagram-MEC-45.png
END:VEVENT
BEGIN:VEVENT
DTSTART;TZID=America/Chicago:20250804T000000
DTEND;TZID=America/Chicago:20250804T235959
DTSTAMP:20260419T145809
CREATED:20250408T202912Z
LAST-MODIFIED:20250408T202915Z
UID:10001812-1754265600-1754351999@medinaentertainment.com
SUMMARY:Summer Hours - Closed
DESCRIPTION:Medina Entertainment Center will be closed on Mondays for the Summer\, May – August.
URL:https://medinaentertainment.com/event/summer-hours-closed/2025-08-04/
CATEGORIES:Social
ATTACH;FMTTYPE=image/png:https://medinaentertainment.com/wp-content/uploads/2023/05/Instagram-MEC-57.png
END:VEVENT
BEGIN:VEVENT
DTSTART;TZID=America/Chicago:20250807T183000
DTEND;TZID=America/Chicago:20250807T203000
DTSTAMP:20260419T145809
CREATED:20250217T141611Z
LAST-MODIFIED:20250217T141716Z
UID:10001513-1754591400-1754598600@medinaentertainment.com
SUMMARY:Medina Hosts: Psychic Ruth Lordan
DESCRIPTION:Medina Hosts: Psychic Ruth lordan\n\n\n\nEvery Thursday 6:30pm to 8:30pm \n\n\n\n\n\n\n\n\n\n\n\n\nJoin the Email Rewards Clubu003cpu003eGet exclusive specials\, discounts\, coupons\, and early promotions on tickets by joining our email rewards club! No minimum spend\, no generating points\, no extra work – just sign up for our emails\, and we’ll send you the savings.u003c/pu003e \n Join Our Email Rewards Club
URL:https://medinaentertainment.com/event/medina-hosts-psychic-ruth-lordan-5/2025-08-07/
CATEGORIES:Social
ATTACH;FMTTYPE=image/png:https://medinaentertainment.com/wp-content/uploads/2023/04/Instagram-MEC-46.png
END:VEVENT
BEGIN:VEVENT
DTSTART;TZID=America/Chicago:20250810T060000
DTEND;TZID=America/Chicago:20250810T120000
DTSTAMP:20260419T145809
CREATED:20250502T160606Z
LAST-MODIFIED:20250502T160741Z
UID:10001827-1754805600-1754827200@medinaentertainment.com
SUMMARY:HAMEL LIONS FLEA MARKET
DESCRIPTION:
URL:https://medinaentertainment.com/event/hamel-lions-flea-market-42/2025-08-10/
CATEGORIES:Social
ATTACH;FMTTYPE=image/png:https://medinaentertainment.com/wp-content/uploads/2023/04/Instagram-MEC-45.png
END:VEVENT
BEGIN:VEVENT
DTSTART;TZID=America/Chicago:20250811T000000
DTEND;TZID=America/Chicago:20250811T235959
DTSTAMP:20260419T145809
CREATED:20250408T202912Z
LAST-MODIFIED:20250408T202915Z
UID:10001813-1754870400-1754956799@medinaentertainment.com
SUMMARY:Summer Hours - Closed
DESCRIPTION:Medina Entertainment Center will be closed on Mondays for the Summer\, May – August.
URL:https://medinaentertainment.com/event/summer-hours-closed/2025-08-11/
CATEGORIES:Social
ATTACH;FMTTYPE=image/png:https://medinaentertainment.com/wp-content/uploads/2023/05/Instagram-MEC-57.png
END:VEVENT
BEGIN:VEVENT
DTSTART;TZID=America/Chicago:20250814T183000
DTEND;TZID=America/Chicago:20250814T203000
DTSTAMP:20260419T145809
CREATED:20250217T141611Z
LAST-MODIFIED:20250217T141716Z
UID:10001514-1755196200-1755203400@medinaentertainment.com
SUMMARY:Medina Hosts: Psychic Ruth Lordan
DESCRIPTION:Medina Hosts: Psychic Ruth lordan\n\n\n\nEvery Thursday 6:30pm to 8:30pm \n\n\n\n\n\n\n\n\n\n\n\n\nJoin the Email Rewards Clubu003cpu003eGet exclusive specials\, discounts\, coupons\, and early promotions on tickets by joining our email rewards club! No minimum spend\, no generating points\, no extra work – just sign up for our emails\, and we’ll send you the savings.u003c/pu003e \n Join Our Email Rewards Club
URL:https://medinaentertainment.com/event/medina-hosts-psychic-ruth-lordan-5/2025-08-14/
CATEGORIES:Social
ATTACH;FMTTYPE=image/png:https://medinaentertainment.com/wp-content/uploads/2023/04/Instagram-MEC-46.png
END:VEVENT
BEGIN:VEVENT
DTSTART;TZID=America/Chicago:20250817T060000
DTEND;TZID=America/Chicago:20250817T120000
DTSTAMP:20260419T145809
CREATED:20250502T160606Z
LAST-MODIFIED:20250502T160741Z
UID:10001828-1755410400-1755432000@medinaentertainment.com
SUMMARY:HAMEL LIONS FLEA MARKET
DESCRIPTION:
URL:https://medinaentertainment.com/event/hamel-lions-flea-market-42/2025-08-17/
CATEGORIES:Social
ATTACH;FMTTYPE=image/png:https://medinaentertainment.com/wp-content/uploads/2023/04/Instagram-MEC-45.png
END:VEVENT
BEGIN:VEVENT
DTSTART;TZID=America/Chicago:20250821T183000
DTEND;TZID=America/Chicago:20250821T203000
DTSTAMP:20260419T145809
CREATED:20250217T141611Z
LAST-MODIFIED:20250217T141716Z
UID:10001515-1755801000-1755808200@medinaentertainment.com
SUMMARY:Medina Hosts: Psychic Ruth Lordan
DESCRIPTION:Medina Hosts: Psychic Ruth lordan\n\n\n\nEvery Thursday 6:30pm to 8:30pm \n\n\n\n\n\n\n\n\n\n\n\n\nJoin the Email Rewards Clubu003cpu003eGet exclusive specials\, discounts\, coupons\, and early promotions on tickets by joining our email rewards club! No minimum spend\, no generating points\, no extra work – just sign up for our emails\, and we’ll send you the savings.u003c/pu003e \n Join Our Email Rewards Club
URL:https://medinaentertainment.com/event/medina-hosts-psychic-ruth-lordan-5/2025-08-21/
CATEGORIES:Social
ATTACH;FMTTYPE=image/png:https://medinaentertainment.com/wp-content/uploads/2023/04/Instagram-MEC-46.png
END:VEVENT
BEGIN:VEVENT
DTSTART;TZID=America/Chicago:20250824T060000
DTEND;TZID=America/Chicago:20250824T120000
DTSTAMP:20260419T145809
CREATED:20250502T160606Z
LAST-MODIFIED:20250502T160741Z
UID:10001829-1756015200-1756036800@medinaentertainment.com
SUMMARY:HAMEL LIONS FLEA MARKET
DESCRIPTION:
URL:https://medinaentertainment.com/event/hamel-lions-flea-market-42/2025-08-24/
CATEGORIES:Social
ATTACH;FMTTYPE=image/png:https://medinaentertainment.com/wp-content/uploads/2023/04/Instagram-MEC-45.png
END:VEVENT
BEGIN:VEVENT
DTSTART;TZID=America/Chicago:20250828T183000
DTEND;TZID=America/Chicago:20250828T203000
DTSTAMP:20260419T145809
CREATED:20250217T141611Z
LAST-MODIFIED:20250217T141716Z
UID:10001516-1756405800-1756413000@medinaentertainment.com
SUMMARY:Medina Hosts: Psychic Ruth Lordan
DESCRIPTION:Medina Hosts: Psychic Ruth lordan\n\n\n\nEvery Thursday 6:30pm to 8:30pm \n\n\n\n\n\n\n\n\n\n\n\n\nJoin the Email Rewards Clubu003cpu003eGet exclusive specials\, discounts\, coupons\, and early promotions on tickets by joining our email rewards club! No minimum spend\, no generating points\, no extra work – just sign up for our emails\, and we’ll send you the savings.u003c/pu003e \n Join Our Email Rewards Club
URL:https://medinaentertainment.com/event/medina-hosts-psychic-ruth-lordan-5/2025-08-28/
CATEGORIES:Social
ATTACH;FMTTYPE=image/png:https://medinaentertainment.com/wp-content/uploads/2023/04/Instagram-MEC-46.png
END:VEVENT
BEGIN:VEVENT
DTSTART;TZID=America/Chicago:20250831T060000
DTEND;TZID=America/Chicago:20250831T120000
DTSTAMP:20260419T145809
CREATED:20250502T160606Z
LAST-MODIFIED:20250502T160741Z
UID:10001830-1756620000-1756641600@medinaentertainment.com
SUMMARY:HAMEL LIONS FLEA MARKET
DESCRIPTION:
URL:https://medinaentertainment.com/event/hamel-lions-flea-market-42/2025-08-31/
CATEGORIES:Social
ATTACH;FMTTYPE=image/png:https://medinaentertainment.com/wp-content/uploads/2023/04/Instagram-MEC-45.png
END:VEVENT
END:VCALENDAR