BEGIN:VCALENDAR
VERSION:2.0
PRODID:-//Medina Entertainment Center - ECPv6.15.18//NONSGML v1.0//EN
CALSCALE:GREGORIAN
METHOD:PUBLISH
X-WR-CALNAME:Medina Entertainment Center
X-ORIGINAL-URL:https://medinaentertainment.com
X-WR-CALDESC:Events for Medina Entertainment Center
REFRESH-INTERVAL;VALUE=DURATION:PT1H
X-Robots-Tag:noindex
X-PUBLISHED-TTL:PT1H
BEGIN:VTIMEZONE
TZID:America/Chicago
BEGIN:DAYLIGHT
TZOFFSETFROM:-0600
TZOFFSETTO:-0500
TZNAME:CDT
DTSTART:20240310T080000
END:DAYLIGHT
BEGIN:STANDARD
TZOFFSETFROM:-0500
TZOFFSETTO:-0600
TZNAME:CST
DTSTART:20241103T070000
END:STANDARD
BEGIN:DAYLIGHT
TZOFFSETFROM:-0600
TZOFFSETTO:-0500
TZNAME:CDT
DTSTART:20250309T080000
END:DAYLIGHT
BEGIN:STANDARD
TZOFFSETFROM:-0500
TZOFFSETTO:-0600
TZNAME:CST
DTSTART:20251102T070000
END:STANDARD
BEGIN:DAYLIGHT
TZOFFSETFROM:-0600
TZOFFSETTO:-0500
TZNAME:CDT
DTSTART:20260308T080000
END:DAYLIGHT
BEGIN:STANDARD
TZOFFSETFROM:-0500
TZOFFSETTO:-0600
TZNAME:CST
DTSTART:20261101T070000
END:STANDARD
END:VTIMEZONE
BEGIN:VEVENT
DTSTART;TZID=America/Chicago:20251002T183000
DTEND;TZID=America/Chicago:20251002T203000
DTSTAMP:20260419T100718
CREATED:20250217T141611Z
LAST-MODIFIED:20250217T141716Z
UID:10001521-1759429800-1759437000@medinaentertainment.com
SUMMARY:Medina Hosts: Psychic Ruth Lordan
DESCRIPTION:Medina Hosts: Psychic Ruth lordan\n\n\n\nEvery Thursday 6:30pm to 8:30pm \n\n\n\n\n\n\n\n\n\n\n\n\nJoin the Email Rewards Clubu003cpu003eGet exclusive specials\, discounts\, coupons\, and early promotions on tickets by joining our email rewards club! No minimum spend\, no generating points\, no extra work – just sign up for our emails\, and we’ll send you the savings.u003c/pu003e \n Join Our Email Rewards Club
URL:https://medinaentertainment.com/event/medina-hosts-psychic-ruth-lordan-5/2025-10-02/
CATEGORIES:Social
ATTACH;FMTTYPE=image/png:https://medinaentertainment.com/wp-content/uploads/2023/04/Instagram-MEC-46.png
END:VEVENT
BEGIN:VEVENT
DTSTART;TZID=America/Chicago:20251006T190000
DTEND;TZID=America/Chicago:20251006T220000
DTSTAMP:20260419T100718
CREATED:20250716T145443Z
LAST-MODIFIED:20250722T201330Z
UID:10001859-1759777200-1759788000@medinaentertainment.com
SUMMARY:Medina Hosts: BINGO!
DESCRIPTION:Medina Hosts: BINGO!\n\n\n\n\n\nJoin us EVERY Monday in Robert’s Bar for BINGO! \nPacket Purchase Available\, Packet Not Required to Play \n\n\n\n\n\n\n\n\n\n\n\n\nJoin the Email Rewards Clubu003cpu003eGet exclusive specials\, discounts\, coupons\, and early promotions on tickets by joining our email rewards club! No minimum spend\, no generating points\, no extra work – just sign up for our emails\, and we’ll send you the savings.u003c/pu003e \n Join Our Email Rewards Club
URL:https://medinaentertainment.com/event/medina-hosts-bingo-2/2025-10-06/
CATEGORIES:Bingo,Social
ATTACH;FMTTYPE=image/png:https://medinaentertainment.com/wp-content/uploads/2025/07/Instagram-MEC-72.png
END:VEVENT
BEGIN:VEVENT
DTSTART;TZID=America/Chicago:20251007T193000
DTEND;TZID=America/Chicago:20251007T210000
DTSTAMP:20260419T100718
CREATED:20250912T130749Z
LAST-MODIFIED:20250912T130908Z
UID:10001907-1759865400-1759870800@medinaentertainment.com
SUMMARY:Medina Hosts: Dance Classes
DESCRIPTION:Medina Hosts “Come Dance with Us” Dance Classes – Tuesday October 7th\, 2025\n\n\n\n\n\n\n\nMedina Hosts Dance Classes features the social dance group Come Dance with Us! Tuesday nights are perfect for singles\, couples\, and groups to dance learn a new dance and meet new friends. Come dance the night away! \nEvery Tuesday\, Class Starts at 7:30pm \n$10 per person\, per week \nFor questions or more information: \nCarol 952-334-9793 \nLarry 612-599-7856 \nBarb 612-599-9915 \n\n\n\n\n\n\n\n\n\n\n\n\n\n\n\n\n\n\n\n\nJoin the Email Rewards Clubu003cpu003eGet exclusive specials\, discounts\, coupons\, and early promotions on tickets by joining our email rewards club! No minimum spend\, no generating points\, no extra work – just sign up for our emails\, and we’ll send you the savings.u003c/pu003e \n Join Our Email Rewards Club
URL:https://medinaentertainment.com/event/medina-hosts-dance-classes-4/
CATEGORIES:Dance,Social
ATTACH;FMTTYPE=image/png:https://medinaentertainment.com/wp-content/uploads/2023/02/Instagram-MEC-37.png
END:VEVENT
BEGIN:VEVENT
DTSTART;TZID=America/Chicago:20251009T183000
DTEND;TZID=America/Chicago:20251009T203000
DTSTAMP:20260419T100718
CREATED:20250217T141611Z
LAST-MODIFIED:20250217T141716Z
UID:10001522-1760034600-1760041800@medinaentertainment.com
SUMMARY:Medina Hosts: Psychic Ruth Lordan
DESCRIPTION:Medina Hosts: Psychic Ruth lordan\n\n\n\nEvery Thursday 6:30pm to 8:30pm \n\n\n\n\n\n\n\n\n\n\n\n\nJoin the Email Rewards Clubu003cpu003eGet exclusive specials\, discounts\, coupons\, and early promotions on tickets by joining our email rewards club! No minimum spend\, no generating points\, no extra work – just sign up for our emails\, and we’ll send you the savings.u003c/pu003e \n Join Our Email Rewards Club
URL:https://medinaentertainment.com/event/medina-hosts-psychic-ruth-lordan-5/2025-10-09/
CATEGORIES:Social
ATTACH;FMTTYPE=image/png:https://medinaentertainment.com/wp-content/uploads/2023/04/Instagram-MEC-46.png
END:VEVENT
BEGIN:VEVENT
DTSTART;TZID=America/Chicago:20251013T190000
DTEND;TZID=America/Chicago:20251013T220000
DTSTAMP:20260419T100718
CREATED:20250716T145443Z
LAST-MODIFIED:20250722T201330Z
UID:10001860-1760382000-1760392800@medinaentertainment.com
SUMMARY:Medina Hosts: BINGO!
DESCRIPTION:Medina Hosts: BINGO!\n\n\n\n\n\nJoin us EVERY Monday in Robert’s Bar for BINGO! \nPacket Purchase Available\, Packet Not Required to Play \n\n\n\n\n\n\n\n\n\n\n\n\nJoin the Email Rewards Clubu003cpu003eGet exclusive specials\, discounts\, coupons\, and early promotions on tickets by joining our email rewards club! No minimum spend\, no generating points\, no extra work – just sign up for our emails\, and we’ll send you the savings.u003c/pu003e \n Join Our Email Rewards Club
URL:https://medinaentertainment.com/event/medina-hosts-bingo-2/2025-10-13/
CATEGORIES:Bingo,Social
ATTACH;FMTTYPE=image/png:https://medinaentertainment.com/wp-content/uploads/2025/07/Instagram-MEC-72.png
END:VEVENT
BEGIN:VEVENT
DTSTART;TZID=America/Chicago:20251014T193000
DTEND;TZID=America/Chicago:20251014T210000
DTSTAMP:20260419T100718
CREATED:20250912T132315Z
LAST-MODIFIED:20250912T132319Z
UID:10001909-1760470200-1760475600@medinaentertainment.com
SUMMARY:Medina Hosts: Dance Classes
DESCRIPTION:Medina Hosts “Come Dance with Us” Dance Classes – Tuesday October 14th\, 2025\n\n\n\n\n\n\n\nMedina Hosts Dance Classes features the social dance group Come Dance with Us! Tuesday nights are perfect for singles\, couples\, and groups to dance learn a new dance and meet new friends. Come dance the night away! \nEvery Tuesday\, Class Starts at 7:30pm \n$10 per person\, per week \nFor questions or more information: \nCarol 952-334-9793 \nLarry 612-599-7856 \nBarb 612-599-9915 \n\n\n\n\n\n\n\n\n\n\n\n\n\n\n\n\n\n\n\n\nJoin the Email Rewards Clubu003cpu003eGet exclusive specials\, discounts\, coupons\, and early promotions on tickets by joining our email rewards club! No minimum spend\, no generating points\, no extra work – just sign up for our emails\, and we’ll send you the savings.u003c/pu003e \n Join Our Email Rewards Club
URL:https://medinaentertainment.com/event/medina-hosts-dance-classes-5/
CATEGORIES:Dance,Social
ATTACH;FMTTYPE=image/png:https://medinaentertainment.com/wp-content/uploads/2023/02/Instagram-MEC-37.png
END:VEVENT
BEGIN:VEVENT
DTSTART;TZID=America/Chicago:20251016T183000
DTEND;TZID=America/Chicago:20251016T203000
DTSTAMP:20260419T100719
CREATED:20250217T141611Z
LAST-MODIFIED:20250217T141716Z
UID:10001523-1760639400-1760646600@medinaentertainment.com
SUMMARY:Medina Hosts: Psychic Ruth Lordan
DESCRIPTION:Medina Hosts: Psychic Ruth lordan\n\n\n\nEvery Thursday 6:30pm to 8:30pm \n\n\n\n\n\n\n\n\n\n\n\n\nJoin the Email Rewards Clubu003cpu003eGet exclusive specials\, discounts\, coupons\, and early promotions on tickets by joining our email rewards club! No minimum spend\, no generating points\, no extra work – just sign up for our emails\, and we’ll send you the savings.u003c/pu003e \n Join Our Email Rewards Club
URL:https://medinaentertainment.com/event/medina-hosts-psychic-ruth-lordan-5/2025-10-16/
CATEGORIES:Social
ATTACH;FMTTYPE=image/png:https://medinaentertainment.com/wp-content/uploads/2023/04/Instagram-MEC-46.png
END:VEVENT
BEGIN:VEVENT
DTSTART;TZID=America/Chicago:20251020T190000
DTEND;TZID=America/Chicago:20251020T220000
DTSTAMP:20260419T100719
CREATED:20250716T145443Z
LAST-MODIFIED:20250722T201330Z
UID:10001861-1760986800-1760997600@medinaentertainment.com
SUMMARY:Medina Hosts: BINGO!
DESCRIPTION:Medina Hosts: BINGO!\n\n\n\n\n\nJoin us EVERY Monday in Robert’s Bar for BINGO! \nPacket Purchase Available\, Packet Not Required to Play \n\n\n\n\n\n\n\n\n\n\n\n\nJoin the Email Rewards Clubu003cpu003eGet exclusive specials\, discounts\, coupons\, and early promotions on tickets by joining our email rewards club! No minimum spend\, no generating points\, no extra work – just sign up for our emails\, and we’ll send you the savings.u003c/pu003e \n Join Our Email Rewards Club
URL:https://medinaentertainment.com/event/medina-hosts-bingo-2/2025-10-20/
CATEGORIES:Bingo,Social
ATTACH;FMTTYPE=image/png:https://medinaentertainment.com/wp-content/uploads/2025/07/Instagram-MEC-72.png
END:VEVENT
BEGIN:VEVENT
DTSTART;TZID=America/Chicago:20251021T193000
DTEND;TZID=America/Chicago:20251021T210000
DTSTAMP:20260419T100719
CREATED:20250912T132514Z
LAST-MODIFIED:20250912T132519Z
UID:10001910-1761075000-1761080400@medinaentertainment.com
SUMMARY:Medina Hosts: Dance Classes
DESCRIPTION:Medina Hosts “Come Dance with Us” Dance Classes – Tuesday October 21st\, 2025\n\n\n\n\n\n\n\nMedina Hosts Dance Classes features the social dance group Come Dance with Us! Tuesday nights are perfect for singles\, couples\, and groups to dance learn a new dance and meet new friends. Come dance the night away! \nEvery Tuesday\, Class Starts at 7:30pm \n$10 per person\, per week \nFor questions or more information: \nCarol 952-334-9793 \nLarry 612-599-7856 \nBarb 612-599-9915 \n\n\n\n\n\n\n\n\n\n\n\n\n\n\n\n\n\n\n\n\nJoin the Email Rewards Clubu003cpu003eGet exclusive specials\, discounts\, coupons\, and early promotions on tickets by joining our email rewards club! No minimum spend\, no generating points\, no extra work – just sign up for our emails\, and we’ll send you the savings.u003c/pu003e \n Join Our Email Rewards Club
URL:https://medinaentertainment.com/event/medina-hosts-dance-classes-6/
CATEGORIES:Dance,Social
ATTACH;FMTTYPE=image/png:https://medinaentertainment.com/wp-content/uploads/2023/02/Instagram-MEC-37.png
END:VEVENT
BEGIN:VEVENT
DTSTART;TZID=America/Chicago:20251023T183000
DTEND;TZID=America/Chicago:20251023T203000
DTSTAMP:20260419T100719
CREATED:20250217T141611Z
LAST-MODIFIED:20250217T141716Z
UID:10001524-1761244200-1761251400@medinaentertainment.com
SUMMARY:Medina Hosts: Psychic Ruth Lordan
DESCRIPTION:Medina Hosts: Psychic Ruth lordan\n\n\n\nEvery Thursday 6:30pm to 8:30pm \n\n\n\n\n\n\n\n\n\n\n\n\nJoin the Email Rewards Clubu003cpu003eGet exclusive specials\, discounts\, coupons\, and early promotions on tickets by joining our email rewards club! No minimum spend\, no generating points\, no extra work – just sign up for our emails\, and we’ll send you the savings.u003c/pu003e \n Join Our Email Rewards Club
URL:https://medinaentertainment.com/event/medina-hosts-psychic-ruth-lordan-5/2025-10-23/
CATEGORIES:Social
ATTACH;FMTTYPE=image/png:https://medinaentertainment.com/wp-content/uploads/2023/04/Instagram-MEC-46.png
END:VEVENT
BEGIN:VEVENT
DTSTART;TZID=America/Chicago:20251027T190000
DTEND;TZID=America/Chicago:20251027T220000
DTSTAMP:20260419T100719
CREATED:20250716T145443Z
LAST-MODIFIED:20250722T201330Z
UID:10001862-1761591600-1761602400@medinaentertainment.com
SUMMARY:Medina Hosts: BINGO!
DESCRIPTION:Medina Hosts: BINGO!\n\n\n\n\n\nJoin us EVERY Monday in Robert’s Bar for BINGO! \nPacket Purchase Available\, Packet Not Required to Play \n\n\n\n\n\n\n\n\n\n\n\n\nJoin the Email Rewards Clubu003cpu003eGet exclusive specials\, discounts\, coupons\, and early promotions on tickets by joining our email rewards club! No minimum spend\, no generating points\, no extra work – just sign up for our emails\, and we’ll send you the savings.u003c/pu003e \n Join Our Email Rewards Club
URL:https://medinaentertainment.com/event/medina-hosts-bingo-2/2025-10-27/
CATEGORIES:Bingo,Social
ATTACH;FMTTYPE=image/png:https://medinaentertainment.com/wp-content/uploads/2025/07/Instagram-MEC-72.png
END:VEVENT
BEGIN:VEVENT
DTSTART;TZID=America/Chicago:20251028T193000
DTEND;TZID=America/Chicago:20251028T210000
DTSTAMP:20260419T100719
CREATED:20250912T132637Z
LAST-MODIFIED:20250912T132641Z
UID:10001911-1761679800-1761685200@medinaentertainment.com
SUMMARY:Medina Hosts: Dance Classes
DESCRIPTION:Medina Hosts “Come Dance with Us” Dance Classes – Tuesday October 28th\, 2025\n\n\n\n\n\n\n\nMedina Hosts Dance Classes features the social dance group Come Dance with Us! Tuesday nights are perfect for singles\, couples\, and groups to dance learn a new dance and meet new friends. Come dance the night away! \nEvery Tuesday\, Class Starts at 7:30pm \n$10 per person\, per week \nFor questions or more information: \nCarol 952-334-9793 \nLarry 612-599-7856 \nBarb 612-599-9915 \n\n\n\n\n\n\n\n\n\n\n\n\n\n\n\n\n\n\n\n\nJoin the Email Rewards Clubu003cpu003eGet exclusive specials\, discounts\, coupons\, and early promotions on tickets by joining our email rewards club! No minimum spend\, no generating points\, no extra work – just sign up for our emails\, and we’ll send you the savings.u003c/pu003e \n Join Our Email Rewards Club
URL:https://medinaentertainment.com/event/medina-hosts-dance-classes-7/
CATEGORIES:Dance,Social
ATTACH;FMTTYPE=image/png:https://medinaentertainment.com/wp-content/uploads/2023/02/Instagram-MEC-37.png
END:VEVENT
BEGIN:VEVENT
DTSTART;TZID=America/Chicago:20251030T183000
DTEND;TZID=America/Chicago:20251030T203000
DTSTAMP:20260419T100719
CREATED:20250217T141611Z
LAST-MODIFIED:20250217T141716Z
UID:10001525-1761849000-1761856200@medinaentertainment.com
SUMMARY:Medina Hosts: Psychic Ruth Lordan
DESCRIPTION:Medina Hosts: Psychic Ruth lordan\n\n\n\nEvery Thursday 6:30pm to 8:30pm \n\n\n\n\n\n\n\n\n\n\n\n\nJoin the Email Rewards Clubu003cpu003eGet exclusive specials\, discounts\, coupons\, and early promotions on tickets by joining our email rewards club! No minimum spend\, no generating points\, no extra work – just sign up for our emails\, and we’ll send you the savings.u003c/pu003e \n Join Our Email Rewards Club
URL:https://medinaentertainment.com/event/medina-hosts-psychic-ruth-lordan-5/2025-10-30/
CATEGORIES:Social
ATTACH;FMTTYPE=image/png:https://medinaentertainment.com/wp-content/uploads/2023/04/Instagram-MEC-46.png
END:VEVENT
END:VCALENDAR