BEGIN:VCALENDAR
VERSION:2.0
PRODID:-//Medina Entertainment Center - ECPv6.15.18//NONSGML v1.0//EN
CALSCALE:GREGORIAN
METHOD:PUBLISH
X-WR-CALNAME:Medina Entertainment Center
X-ORIGINAL-URL:https://medinaentertainment.com
X-WR-CALDESC:Events for Medina Entertainment Center
REFRESH-INTERVAL;VALUE=DURATION:PT1H
X-Robots-Tag:noindex
X-PUBLISHED-TTL:PT1H
BEGIN:VTIMEZONE
TZID:America/Chicago
BEGIN:DAYLIGHT
TZOFFSETFROM:-0600
TZOFFSETTO:-0500
TZNAME:CDT
DTSTART:20260308T080000
END:DAYLIGHT
BEGIN:STANDARD
TZOFFSETFROM:-0500
TZOFFSETTO:-0600
TZNAME:CST
DTSTART:20261101T070000
END:STANDARD
BEGIN:DAYLIGHT
TZOFFSETFROM:-0600
TZOFFSETTO:-0500
TZNAME:CDT
DTSTART:20270314T080000
END:DAYLIGHT
BEGIN:STANDARD
TZOFFSETFROM:-0500
TZOFFSETTO:-0600
TZNAME:CST
DTSTART:20271107T070000
END:STANDARD
BEGIN:DAYLIGHT
TZOFFSETFROM:-0600
TZOFFSETTO:-0500
TZNAME:CDT
DTSTART:20280312T080000
END:DAYLIGHT
BEGIN:STANDARD
TZOFFSETFROM:-0500
TZOFFSETTO:-0600
TZNAME:CST
DTSTART:20281105T070000
END:STANDARD
END:VTIMEZONE
BEGIN:VEVENT
DTSTART;TZID=America/Chicago:20271202T183000
DTEND;TZID=America/Chicago:20271202T203000
DTSTAMP:20260424T173539
CREATED:20250217T141611Z
LAST-MODIFIED:20250217T141716Z
UID:10001634-1827772200-1827779400@medinaentertainment.com
SUMMARY:Medina Hosts: Psychic Ruth Lordan
DESCRIPTION:Medina Hosts: Psychic Ruth lordan\n\n\n\nEvery Thursday 6:30pm to 8:30pm \n\n\n\n\n\n\n\n\n\n\n\n\nJoin the Email Rewards Clubu003cpu003eGet exclusive specials\, discounts\, coupons\, and early promotions on tickets by joining our email rewards club! No minimum spend\, no generating points\, no extra work – just sign up for our emails\, and we’ll send you the savings.u003c/pu003e \n Join Our Email Rewards Club
URL:https://medinaentertainment.com/event/medina-hosts-psychic-ruth-lordan-5/2027-12-02/
CATEGORIES:Social
ATTACH;FMTTYPE=image/png:https://medinaentertainment.com/wp-content/uploads/2023/04/Instagram-MEC-46.png
END:VEVENT
BEGIN:VEVENT
DTSTART;TZID=America/Chicago:20271209T183000
DTEND;TZID=America/Chicago:20271209T203000
DTSTAMP:20260424T173539
CREATED:20250217T141611Z
LAST-MODIFIED:20250217T141716Z
UID:10001635-1828377000-1828384200@medinaentertainment.com
SUMMARY:Medina Hosts: Psychic Ruth Lordan
DESCRIPTION:Medina Hosts: Psychic Ruth lordan\n\n\n\nEvery Thursday 6:30pm to 8:30pm \n\n\n\n\n\n\n\n\n\n\n\n\nJoin the Email Rewards Clubu003cpu003eGet exclusive specials\, discounts\, coupons\, and early promotions on tickets by joining our email rewards club! No minimum spend\, no generating points\, no extra work – just sign up for our emails\, and we’ll send you the savings.u003c/pu003e \n Join Our Email Rewards Club
URL:https://medinaentertainment.com/event/medina-hosts-psychic-ruth-lordan-5/2027-12-09/
CATEGORIES:Social
ATTACH;FMTTYPE=image/png:https://medinaentertainment.com/wp-content/uploads/2023/04/Instagram-MEC-46.png
END:VEVENT
BEGIN:VEVENT
DTSTART;TZID=America/Chicago:20271216T183000
DTEND;TZID=America/Chicago:20271216T203000
DTSTAMP:20260424T173539
CREATED:20250217T141611Z
LAST-MODIFIED:20250217T141716Z
UID:10001636-1828981800-1828989000@medinaentertainment.com
SUMMARY:Medina Hosts: Psychic Ruth Lordan
DESCRIPTION:Medina Hosts: Psychic Ruth lordan\n\n\n\nEvery Thursday 6:30pm to 8:30pm \n\n\n\n\n\n\n\n\n\n\n\n\nJoin the Email Rewards Clubu003cpu003eGet exclusive specials\, discounts\, coupons\, and early promotions on tickets by joining our email rewards club! No minimum spend\, no generating points\, no extra work – just sign up for our emails\, and we’ll send you the savings.u003c/pu003e \n Join Our Email Rewards Club
URL:https://medinaentertainment.com/event/medina-hosts-psychic-ruth-lordan-5/2027-12-16/
CATEGORIES:Social
ATTACH;FMTTYPE=image/png:https://medinaentertainment.com/wp-content/uploads/2023/04/Instagram-MEC-46.png
END:VEVENT
BEGIN:VEVENT
DTSTART;TZID=America/Chicago:20271223T183000
DTEND;TZID=America/Chicago:20271223T203000
DTSTAMP:20260424T173539
CREATED:20250217T141611Z
LAST-MODIFIED:20250217T141716Z
UID:10001637-1829586600-1829593800@medinaentertainment.com
SUMMARY:Medina Hosts: Psychic Ruth Lordan
DESCRIPTION:Medina Hosts: Psychic Ruth lordan\n\n\n\nEvery Thursday 6:30pm to 8:30pm \n\n\n\n\n\n\n\n\n\n\n\n\nJoin the Email Rewards Clubu003cpu003eGet exclusive specials\, discounts\, coupons\, and early promotions on tickets by joining our email rewards club! No minimum spend\, no generating points\, no extra work – just sign up for our emails\, and we’ll send you the savings.u003c/pu003e \n Join Our Email Rewards Club
URL:https://medinaentertainment.com/event/medina-hosts-psychic-ruth-lordan-5/2027-12-23/
CATEGORIES:Social
ATTACH;FMTTYPE=image/png:https://medinaentertainment.com/wp-content/uploads/2023/04/Instagram-MEC-46.png
END:VEVENT
BEGIN:VEVENT
DTSTART;TZID=America/Chicago:20271230T183000
DTEND;TZID=America/Chicago:20271230T203000
DTSTAMP:20260424T173539
CREATED:20250217T141611Z
LAST-MODIFIED:20250217T141716Z
UID:10001638-1830191400-1830198600@medinaentertainment.com
SUMMARY:Medina Hosts: Psychic Ruth Lordan
DESCRIPTION:Medina Hosts: Psychic Ruth lordan\n\n\n\nEvery Thursday 6:30pm to 8:30pm \n\n\n\n\n\n\n\n\n\n\n\n\nJoin the Email Rewards Clubu003cpu003eGet exclusive specials\, discounts\, coupons\, and early promotions on tickets by joining our email rewards club! No minimum spend\, no generating points\, no extra work – just sign up for our emails\, and we’ll send you the savings.u003c/pu003e \n Join Our Email Rewards Club
URL:https://medinaentertainment.com/event/medina-hosts-psychic-ruth-lordan-5/2027-12-30/
CATEGORIES:Social
ATTACH;FMTTYPE=image/png:https://medinaentertainment.com/wp-content/uploads/2023/04/Instagram-MEC-46.png
END:VEVENT
END:VCALENDAR